BEGIN:VCALENDAR
VERSION:2.0
PRODID:Sopa da Panela 2026
X-WR-CALNAME:Sopa da Panela 2026
X-WR-TIMEZONE:Europe/Lisbon
X-PUBLISHED-TTL:P1W
BEGIN:VTIMEZONE
TZID:Europe/Lisbon
X-LIC-LOCATION:Europe/Lisbon
END:VTIMEZONE
BEGIN:VEVENT
UID:69e9fea3e2301
DTSTART;VALUE=DATE:20260328
SEQUENCE:0
TRANSP:OPAQUE
DTEND;VALUE=DATE:20260329
SUMMARY:Sopa da Panela 2026
CLASS:PUBLIC
DESCRIPTION:O que é o evento “Sopa da Panela”O evento “Sopa da Panel
 a” é um convívio gastronómico e cultural tradicional que se realiza e
 m São Pedro da Gafanhoeira\, na região de Évora\, ocncelho de Arraiolos
 . É organizado pela junta de&nbsp\;&nbsp\;Freguesias de Gafanhoeira (São
  Pedro)&nbsp\;e pela comunidade local\, com o objetivo de celebrar a sopa 
 típica da região — a Sopa da Panela — junto de habitantes e visitant
 es. É um momento de partilha\, convívio e festa em torno da gastronomia 
 alentejana.&nbsp\;Tradição e gastronomia“Sopa da Panela” é também 
 o nome de uma sopa tradicional alentejana\, rica e generosa\, feita com v
 ários tipos de carne\, pão alentejano e hortelã\, representando a hist
 ória culinária da região e o convívio à volta da mesa nos dias mais f
 rios ou festivos. O evento costuma incluir:  Serviço da Sopa da Panela 
 — muitas vezes preparado e servido em conjunto no local\, com receitas t
 radicionais.   &nbsp\;Convívio comunitário — promovendo encontros entr
 e famílias e vizinhos.   &nbsp\;Showcooking e demonstrações culinárias
  — momentos onde se mostra como cozinhar a sopa e se partilham técnicas
  e memórias.   &nbsp\;Ambiente festivo — música e animação\, que ref
 orçam a tradição alentejana de encontros socioculturais.   &nbsp\;Local
  &amp\; organizaçãoO evento normalmente acontece no Largo da Lezíria\, 
 nº 2\, em São Pedro da Gafanhoeira\, no espaço multiusos&nbsp\;um dos e
 spaços centrais da freguesia.  A iniciativa é coordenada pelos órgãos 
 da Junta de Freguesia e pela comunidade — um sinal do empenho local na p
 reservação de tradições e na promoção da cultura gastronómica alent
 ejana. &nbsp\;Edição 2026         Esta Edição irá ocorrer no próximo
  mês de Março\, mais propriamente no dia 28/03/2026\, pelas 13h.
X-MICROSOFT-CDO-ALLDAYEVENT:TRUE
DTSTAMP:20260423T111235Z
END:VEVENT
END:VCALENDAR